Workbook

Sheet Software Request
B4: RU Software Request Form
B7: DATE: | C7: =TODAY() -> 46295
B9: SOFTWARE:
B11: TOTAL USER LICENSES: | D11: =SUBTOTAL(3,B23:B37,H23:H37) -> 0
B12: =_xlfn.CONCAT("TOTAL MONTHLY COST: (",IFERROR(TEXT(VLOOKUP($D$9,'Software List'!$B:$D,2,FALSE),"$0.00")," - ")," per License)") -> TOTAL MONTHLY COST: ( - per License) | D12: =IF(D9="",0,$D$11*VLOOKUP($D$9,'Software List'!$B:$D,2,FALSE)) -> 0
B13: TOTAL ANNUAL COST: | D13: =D12*12 -> 0
B16: FUNDING SOURCE:
B17: Department Name:
B18: GL String or Project String:
B19: Default Account Code: | D19: 74103
C21: Employee Active List as of : | D21: =Employees!$R$1 -> 46290
B22: NAME | D22: NET ID | H22: NAME | K22: NET ID
A23: 1 | D23: =IF(B23="","",IFERROR(VLOOKUP(B23,Employees!$N:$O,2,FALSE),"")) | G23: 16 | K23: =IF(H23="","",IFERROR(VLOOKUP(H23,Employees!$N:$O,2,FALSE),""))
A24: 2 | D24: =IF(B24="","",IFERROR(VLOOKUP(B24,Employees!$N:$O,2,FALSE),"")) | G24: 17 | K24: =IF(H24="","",IFERROR(VLOOKUP(H24,Employees!$N:$O,2,FALSE),""))
A25: 3 | D25: =IF(B25="","",IFERROR(VLOOKUP(B25,Employees!$N:$O,2,FALSE),"")) | G25: 18 | K25: =IF(H25="","",IFERROR(VLOOKUP(H25,Employees!$N:$O,2,FALSE),""))
A26: 4 | D26: =IF(B26="","",IFERROR(VLOOKUP(B26,Employees!$N:$O,2,FALSE),"")) | G26: 19 | K26: =IF(H26="","",IFERROR(VLOOKUP(H26,Employees!$N:$O,2,FALSE),""))
A27: 5 | D27: =IF(B27="","",IFERROR(VLOOKUP(B27,Employees!$N:$O,2,FALSE),"")) | G27: 20 | K27: =IF(H27="","",IFERROR(VLOOKUP(H27,Employees!$N:$O,2,FALSE),""))
A28: 6 | D28: =IF(B28="","",IFERROR(VLOOKUP(B28,Employees!$N:$O,2,FALSE),"")) | G28: 21 | K28: =IF(H28="","",IFERROR(VLOOKUP(H28,Employees!$N:$O,2,FALSE),""))
A29: 7 | D29: =IF(B29="","",IFERROR(VLOOKUP(B29,Employees!$N:$O,2,FALSE),"")) | G29: 22 | K29: =IF(H29="","",IFERROR(VLOOKUP(H29,Employees!$N:$O,2,FALSE),""))
A30: 8 | D30: =IF(B30="","",IFERROR(VLOOKUP(B30,Employees!$N:$O,2,FALSE),"")) | G30: 23 | K30: =IF(H30="","",IFERROR(VLOOKUP(H30,Employees!$N:$O,2,FALSE),""))
A31: 9 | D31: =IF(B31="","",IFERROR(VLOOKUP(B31,Employees!$N:$O,2,FALSE),"")) | G31: 24 | K31: =IF(H31="","",IFERROR(VLOOKUP(H31,Employees!$N:$O,2,FALSE),""))
A32: 10 | D32: =IF(B32="","",IFERROR(VLOOKUP(B32,Employees!$N:$O,2,FALSE),"")) | G32: 25 | K32: =IF(H32="","",IFERROR(VLOOKUP(H32,Employees!$N:$O,2,FALSE),""))
A33: 11 | D33: =IF(B33="","",IFERROR(VLOOKUP(B33,Employees!$N:$O,2,FALSE),"")) | G33: 26 | K33: =IF(H33="","",IFERROR(VLOOKUP(H33,Employees!$N:$O,2,FALSE),""))
A34: 12 | D34: =IF(B34="","",IFERROR(VLOOKUP(B34,Employees!$N:$O,2,FALSE),"")) | G34: 27 | K34: =IF(H34="","",IFERROR(VLOOKUP(H34,Employees!$N:$O,2,FALSE),""))
... A37: 15 | D37: =IF(B37="","",IFERROR(VLOOKUP(B37,Employees!$N:$O,2,FALSE),"")) | G37: 30 | K37: =IF(H37="","",IFERROR(VLOOKUP(H37,Employees!$N:$O,2,FALSE),""))
B39: DEPARTMENT APPROVAL:
B40: Department Head/Approver: (Printed Name)
B41: Department Head/Approver: (Signature)
B44: FINANCE APPROVAL:
B45: Approver: (Printed Name) | D45: GABRIEL MERCADAL
B46: Approver: (Signature)

Sheet Software List
C1: Pricing
B2: Software | C2: Monthly | D2: Annual
B3: ChatGPT Edu - Base | C3: 10 | D3: 0
B4: ChatGPT Edu - Standard | C4: 30 | D4: 0
B5: ChatGPT Edu - Advanced | C5: 150 | D5: 0
B6: Microsoft 365 Copilot | C6: 20 | D6: 0
B7: Microsoft Planner and Project Plan 3 | C7: 5.67 | D7: 51
B8: Microsoft Planner and Project Plan 5 | C8: 10.42 | D8: 94.5
B9: Microsoft Power Automate | C9: 6.67 | D9: 60
B10: Microsoft Power Automate Premium | C10: 8.5 | D10: 0
B11: Microsoft Visio | C11: 2.25 | D11: 20.25
B12: Smartsheet Enterprise Member Advanced | C12: 65 | D12: 0
B13: Smartsheet Viewer | C13: 0 | D13: 0

Sheet Employees
A1: Employee ID | B1: Last Name | C1: First Name | D1: Hire Date | E1: Position Title | F1: Department | G1: Orgn | H1: Campus | I1: Category | J1: FTE | K1: EMAIL | L1: UNION CODE | N1: NAME | O1: NET ID | Q1: Report Date | R1: 46290
A2: 00163257 | B2: Dallman | C2: Aaron | D2: 44743 | E2: ASST PROF-TT | F2: SHP - Rehabilitation & Movemen | G2: ZC1501 | H2: Newark | I2: Faculty | J2: 1 | K2: ad1764@rutgers.edu | L2: AAUP BHSNJ Faculty | N2: =PROPER(_xlfn.CONCAT(C2," ",B2)) -> Aaron Dallman | O2: =IFERROR(UPPER(LEFT(K2,SEARCH("@",K2)-1)),"") -> AD1764
A3: 00201735 | B3: Perez | C3: Aaron | D3: 46265 | E3: STUDENT ASSISTANT | F3: School of Health Professions | G3: ZC0101 | H3: Newark | I3: Staff | J3: 0.2 | K3: amp662@rutgers.edu | L3: Student Hourly Employees | N3: =PROPER(_xlfn.CONCAT(C3," ",B3)) -> Aaron Perez | O3: =IFERROR(UPPER(LEFT(K3,SEARCH("@",K3)-1)),"") -> AMP662
A4: 00160602 | B4: Schayek | C4: Adam | D4: 44608 | E4: SHP-PD | F4: SHP - Rehabilitation & Movemen | G4: ZC1501 | H4: Newark | I4: Faculty | J4: 0.08 | K4: azs10@rutgers.edu | L4: Hourly Employees | N4: =PROPER(_xlfn.CONCAT(C4," ",B4)) -> Adam Schayek | O4: =IFERROR(UPPER(LEFT(K4,SEARCH("@",K4)-1)),"") -> AZS10
A5: 00157893 | B5: Zaher | C5: Adam | D5: 44484 | E5: SHP-PD | F5: SHP - Psychiatric Rehabilitati | G5: ZC0501 | H5: Busch | I5: Faculty | J5: 0.1 | K5: az325@rutgers.edu | L5: Hourly Employees | N5: =PROPER(_xlfn.CONCAT(C5," ",B5)) -> Adam Zaher | O5: =IFERROR(UPPER(LEFT(K5,SEARCH("@",K5)-1)),"") -> AZ325
A6: 00111173 | B6: Jones | C6: Adline | D6: 39566 | E6: PROG ASST | F6: School of Health Professions | G6: ZC0101 | H6: Newark | I6: Staff | J6: 1 | K6: jones20@rutgers.edu | L6: HPAE 5094 | N6: =PROPER(_xlfn.CONCAT(C6," ",B6)) -> Adline Jones | O6: =IFERROR(UPPER(LEFT(K6,SEARCH("@",K6)-1)),"") -> JONES20
A7: 00101789 | B7: Simonds | C7: Adrienne | D7: 39846 | E7: ASST PROF-TEACH | F7: SHP - Rehabilitation & Movemen | G7: ZC1501 | H7: Newark | I7: Faculty | J7: 1 | K7: simondad@rutgers.edu | L7: AAUP BHSNJ Faculty | N7: =PROPER(_xlfn.CONCAT(C7," ",B7)) -> Adrienne Simonds | O7: =IFERROR(UPPER(LEFT(K7,SEARCH("@",K7)-1)),"") -> SIMONDAD
A8: 00109634 | B8: Mazza | C8: Aileen | D8: 42625 | E8: PROG ASST | F8: School of Health Professions | G8: ZC0101 | H8: Newark | I8: Staff | J8: 1 | K8: am2206@rutgers.edu | L8: HPAE 5094 | N8: =PROPER(_xlfn.CONCAT(C8," ",B8)) -> Aileen Mazza | O8: =IFERROR(UPPER(LEFT(K8,SEARCH("@",K8)-1)),"") -> AM2206
A9: 00143205 | B9: Bailey | C9: Alainn | D9: 44998 | E9: SHP-PD | F9: SHP - Clinical & Preventive Nu | G9: ZC0104 | H9: Newark | I9: Faculty | J9: 0.05 | K9: aab297@rutgers.edu | L9: Hourly Employees | N9: =PROPER(_xlfn.CONCAT(C9," ",B9)) -> Alainn Bailey | O9: =IFERROR(UPPER(LEFT(K9,SEARCH("@",K9)-1)),"") -> AAB297
A10: 00103650 | B10: Heuer | C10: Albert | D10: 35464 | E10: PROF-TEACH | F10: SHP - Interdisciplinary Studie | G10: ZC2001 | H10: Newark | I10: Faculty | J10: 0.5 | K10: heueraj@rutgers.edu | L10: AAUP BHSNJ Faculty | N10: =PROPER(_xlfn.CONCAT(C10," ",B10)) -> Albert Heuer | O10: =IFERROR(UPPER(LEFT(K10,SEARCH("@",K10)-1)),"") -> HEUERAJ
A11: 00197329 | B11: Lawrence | C11: Alexandra | D11: 46055 | E11: STUD ASST | F11: School of Health Professions | G11: ZC0101 | H11: Newark | I11: Staff | J11: 0.13 | K11: al1783@rutgers.edu | L11: Student Hourly Employees | N11: =PROPER(_xlfn.CONCAT(C11," ",B11)) -> Alexandra Lawrence | O11: =IFERROR(UPPER(LEFT(K11,SEARCH("@",K11)-1)),"") -> AL1783
A12: 00105267 | B12: Dahl | C12: Alicia | D12: 42310 | E12: PROG ASST | F12: SHP - Interdisciplinary Studie | G12: ZC2001 | H12: Newark | I12: Staff | J12: 1 | K12: dahlac@rutgers.edu | L12: HPAE 5094 | N12: =PROPER(_xlfn.CONCAT(C12," ",B12)) -> Alicia Dahl | O12: =IFERROR(UPPER(LEFT(K12,SEARCH("@",K12)-1)),"") -> DAHLAC
A13: 00102248 | B13: Lukachko | C13: Alicia | D13: 42072 | E13: ASST PROF-RES | F13: SHP - Psychiatric Rehabilitati | G13: ZC0501 | H13: Newark | I13: Faculty | J13: 1 | K13: aml298@rutgers.edu | L13: AAUP BHSNJ Faculty | N13: =PROPER(_xlfn.CONCAT(C13," ",B13)) -> Alicia Lukachko | O13: =IFERROR(UPPER(LEFT(K13,SEARCH("@",K13)-1)),"") -> AML298
... A291: 00128686 | B291: Weiss | C291: Karen | D291: 43327 | E291: SHP-PD | F291: SHP - Health Informatics | G291: ZC0502 | H291: Busch | I291: Faculty | J291: 0.05 | K291: kdw83@rutgers.edu | L291: Hourly Employees | N291: =PROPER(_xlfn.CONCAT(C291," ",B291)) -> Karen Weiss | O291: =IFERROR(UPPER(LEFT(K291,SEARCH("@",K291)-1)),"") -> KDW83
A292: 00202484 | B292: Ojeda | C292: Karin | D292: 46286 | E292: STUD ASST | F292: SHP - Rehabilitation & Movemen | G292: ZC1501 | H292: Newark | I292: Staff | J292: 0.5 | L292: Student Hourly Employees | N292: =PROPER(_xlfn.CONCAT(C292," ",B292)) -> Karin Ojeda | O292: =IFERROR(UPPER(LEFT(K292,SEARCH("@",K292)-1)),"")
A293: 00183656 | B293: Turner | C293: Karly | D293: 45519 | E293: RBHS INST | F293: SHP - Rehabilitation & Movemen | G293: ZC1501 | H293: Newark | I293: Faculty | J293: 1 | K293: kt764@rutgers.edu | L293: AAUP BHSNJ Faculty | N293: =PROPER(_xlfn.CONCAT(C293," ",B293)) -> Karly Turner | O293: =IFERROR(UPPER(LEFT(K293,SEARCH("@",K293)-1)),"") -> KT764
A294: 00124650 | B294: Willcutts | C294: Kate | D294: 43336 | E294: SHP-PD | F294: SHP - Clinical & Preventive Nu | G294: ZC0104 | H294: Newark | I294: Faculty | J294: 0.05 | K294: willcuka@rutgers.edu | L294: Hourly Employees | N294: =PROPER(_xlfn.CONCAT(C294," ",B294)) -> Kate Willcutts | O294: =IFERROR(UPPER(LEFT(K294,SEARCH("@",K294)-1)),"") -> WILLCUKA
A295: 00196392 | B295: Woo | C295: Kate | D295: 45999 | E295: STUDENT ASSISTANT | F295: School of Health Professions | G295: ZC0101 | H295: Newark | I295: Staff | J295: 0.2 | K295: kw649@rutgers.edu | L295: Student Hourly Employees | N295: =PROPER(_xlfn.CONCAT(C295," ",B295)) -> Kate Woo | O295: =IFERROR(UPPER(LEFT(K295,SEARCH("@",K295)-1)),"") -> KW649
A296: 00128735 | B296: Kalinowski | C296: Kathleen | D296: 43327 | E296: SHP-PD | F296: SHP - CLMIS | G296: ZC1001 | H296: Newark | I296: Faculty | J296: 0.05 | K296: kalinoka@rutgers.edu | L296: Hourly Employees | N296: =PROPER(_xlfn.CONCAT(C296," ",B296)) -> Kathleen Kalinowski | O296: =IFERROR(UPPER(LEFT(K296,SEARCH("@",K296)-1)),"") -> KALINOKA
A297: 00191308 | B297: Golab | C297: Kathryn | D297: 45810 | E297: SHP-PD | F297: SHP - CLMIS | G297: ZC1001 | H297: Newark | I297: Faculty | J297: 0.05 | K297: keg144@rutgers.edu | L297: Hourly Employees | N297: =PROPER(_xlfn.CONCAT(C297," ",B297)) -> Kathryn Golab | O297: =IFERROR(UPPER(LEFT(K297,SEARCH("@",K297)-1)),"") -> KEG144
A298: 00191827 | B298: Espinoza | C298: Katuska | D298: 45845 | E298: WORK ASST PD | F298: SHP - Physician Assistant Stud | G298: ZC0901 | H298: Busch | I298: Staff | J298: 0.03 | K298: kne22@rutgers.edu | L298: Hourly Employees | N298: =PROPER(_xlfn.CONCAT(C298," ",B298)) -> Katuska Espinoza | O298: =IFERROR(UPPER(LEFT(K298,SEARCH("@",K298)-1)),"") -> KNE22
A299: 00142385 | B299: Patel | C299: Kavita | D299: 43738 | E299: SHP-PD | F299: SHP - Rehabilitation & Movemen | G299: ZC1501 | H299: Newark | I299: Faculty | J299: 0.08 | K299: kp915@rutgers.edu | L299: Hourly Employees | N299: =PROPER(_xlfn.CONCAT(C299," ",B299)) -> Kavita Patel | O299: =IFERROR(UPPER(LEFT(K299,SEARCH("@",K299)-1)),"") -> KP915
A300: 00199593 | B300: Murthi | C300: Kavitha | D300: 46160 | E300: ASST PROF-TEACH | F300: SHP - Rehabilitation & Movemen | G300: ZC1501 | H300: Newark | I300: Faculty | J300: 1 | K300: km2156@rutgers.edu | L300: AAUP BHSNJ Faculty | N300: =PROPER(_xlfn.CONCAT(C300," ",B300)) -> Kavitha Murthi | O300: =IFERROR(UPPER(LEFT(K300,SEARCH("@",K300)-1)),"") -> KM2156
A301: 00196736 | B301: DeRosa | C301: Kayla | D301: 46027 | E301: STUD ASST | F301: School of Health Professions | G301: ZC0101 | H301: Newark | I301: Staff | J301: 0.13 | K301: kd1020@rutgers.edu | L301: Student Hourly Employees | N301: =PROPER(_xlfn.CONCAT(C301," ",B301)) -> Kayla Derosa | O301: =IFERROR(UPPER(LEFT(K301,SEARCH("@",K301)-1)),"") -> KD1020
A302: 00169518 | B302: McNair | C302: Keara | D302: 44949 | E302: ASST PROF-TEACH | F302: SHP - Rehabilitation & Movemen | G302: ZC1501 | H302: Newark | I302: Faculty | J302: 1 | K302: kmm732@rutgers.edu | L302: AAUP BHSNJ Faculty | N302: =PROPER(_xlfn.CONCAT(C302," ",B302)) -> Keara Mcnair | O302: =IFERROR(UPPER(LEFT(K302,SEARCH("@",K302)-1)),"") -> KMM732
A303: 00160703 | B303: Gunning | C303: Kelly | D303: 44621 | E303: SHP-PD | F303: SHP - CLMIS | G303: ZC1001 | H303: Newark | I303: Faculty | J303: 0.08 | K303: kg642@rutgers.edu | L303: Hourly Employees | N303: =PROPER(_xlfn.CONCAT(C303," ",B303)) -> Kelly Gunning | O303: =IFERROR(UPPER(LEFT(K303,SEARCH("@",K303)-1)),"") -> KG642
A304: 00102093 | B304: Gill | C304: Kenneth | D304: 33679 | E304: PROF-TE-CHAIR | F304: SHP - Psychiatric Rehabilitati | G304: ZC0501 | H304: Busch | I304: Faculty | J304: 1 | K304: kgill@rutgers.edu | L304: Faculty Administrators | N304: =PROPER(_xlfn.CONCAT(C304," ",B304)) -> Kenneth Gill | O304: =IFERROR(UPPER(LEFT(K304,SEARCH("@",K304)-1)),"") -> KGILL
... A337: 00107528 | B337: Palladino Kim | C337: Lisa | D337: 41426 | E337: ASST PROF-TEACH | F337: SHP - Health Informatics | G337: ZC0502 | H337: Busch | I337: Faculty | J337: 1 | K337: palladlm@rutgers.edu | L337: AAUP BHSNJ Faculty | N337: =PROPER(_xlfn.CONCAT(C337," ",B337)) -> Lisa Palladino Kim | O337: =IFERROR(UPPER(LEFT(K337,SEARCH("@",K337)-1)),"") -> PALLADLM
A338: 00203405 | B338: Garcia | C338: Lisbeth | D338: 46288 | E338: WORK STUDY | F338: SHP - Rehabilitation & Movemen | G338: ZC1501 | H338: Newark | I338: Staff | J338: 0.5 | L338: Student Hourly Employees | N338: =PROPER(_xlfn.CONCAT(C338," ",B338)) -> Lisbeth Garcia | O338: =IFERROR(UPPER(LEFT(K338,SEARCH("@",K338)-1)),"")
A339: 00105802 | B339: Rockson | C339: Lois | D339: 36766 | E339: ASSOC PROF-TEACH-PROG DIR | F339: SHP - CLMIS | G339: ZC1001 | H339: Newark | I339: Faculty | J339: 1 | K339: rocksole@rutgers.edu | L339: NJEA | N339: =PROPER(_xlfn.CONCAT(C339," ",B339)) -> Lois Rockson | O339: =IFERROR(UPPER(LEFT(K339,SEARCH("@",K339)-1)),"") -> ROCKSOLE
A340: 00163140 | B340: Carlo Unda | C340: Lorena | D340: 44743 | E340: ASST PROF-TEACH | F340: SHP - Health Informatics | G340: ZC0502 | H340: Busch | I340: Faculty | J340: 1 | K340: mlc404@rutgers.edu | L340: AAUP BHSNJ Faculty | N340: =PROPER(_xlfn.CONCAT(C340," ",B340)) -> Lorena Carlo Unda | O340: =IFERROR(UPPER(LEFT(K340,SEARCH("@",K340)-1)),"") -> MLC404
A341: 00105210 | B341: Zucker | C341: Lori | D341: 42917 | E341: SHP-PD | F341: SHP - Rehabilitation & Movemen | G341: ZC1501 | H341: Newark | I341: Faculty | J341: 0.05 | K341: zuckerls@rutgers.edu | L341: Hourly Employees | N341: =PROPER(_xlfn.CONCAT(C341," ",B341)) -> Lori Zucker | O341: =IFERROR(UPPER(LEFT(K341,SEARCH("@",K341)-1)),"") -> ZUCKERLS
A342: 00108476 | B342: Librera | C342: Lue Ann | D342: 37945 | E342: RBHS LECTURER | F342: SHP - Psychiatric Rehabilitati | G342: ZC0501 | H342: Busch | I342: Faculty | J342: 1 | K342: librerlu@rutgers.edu | L342: AAUP BHSNJ Faculty | N342: =PROPER(_xlfn.CONCAT(C342," ",B342)) -> Lue Ann Librera | O342: =IFERROR(UPPER(LEFT(K342,SEARCH("@",K342)-1)),"") -> LIBRERLU
A343: 00036751 | B343: Presto | C343: Lydia | D343: 45355 | E343: SHP-PD | F343: SHP - Rehabilitation & Movemen | G343: ZC1501 | H343: Newark | I343: Faculty | J343: 0.08 | K343: ljrogers@rutgers.edu | L343: Hourly Employees | N343: =PROPER(_xlfn.CONCAT(C343," ",B343)) -> Lydia Presto | O343: =IFERROR(UPPER(LEFT(K343,SEARCH("@",K343)-1)),"") -> LJROGERS
A344: 00196411 | B344: Aboagyewaa Sarfo | C344: Maame Afia | D344: 45999 | E344: STUD ASST | F344: SHP - Rehabilitation & Movemen | G344: ZC1501 | H344: Newark | I344: Staff | J344: 0.5 | K344: ma1851@rutgers.edu | L344: Student Hourly Employees | N344: =PROPER(_xlfn.CONCAT(C344," ",B344)) -> Maame Afia Aboagyewaa Sarfo | O344: =IFERROR(UPPER(LEFT(K344,SEARCH("@",K344)-1)),"") -> MA1851
A345: 00103047 | B345: Nowell | C345: Mabel | D345: 34722 | E345: ADMIN COOR | F345: SHP - Rehabilitation & Movemen | G345: ZC1501 | H345: Newark | I345: Staff | J345: 1 | K345: nowellma@rutgers.edu | L345: HPAE 5094 | N345: =PROPER(_xlfn.CONCAT(C345," ",B345)) -> Mabel Nowell | O345: =IFERROR(UPPER(LEFT(K345,SEARCH("@",K345)-1)),"") -> NOWELLMA
A346: 00201329 | B346: Davison-Flynn | C346: Madison | D346: 46258 | E346: STUD ASST | F346: SHP - Rehabilitation & Movemen | G346: ZC1501 | H346: Newark | I346: Staff | J346: 0.5 | K346: md1895@rutgers.edu | L346: Student Hourly Employees | N346: =PROPER(_xlfn.CONCAT(C346," ",B346)) -> Madison Davison-Flynn | O346: =IFERROR(UPPER(LEFT(K346,SEARCH("@",K346)-1)),"") -> MD1895
A347: 00200938 | B347: Lyons | C347: Madison | D347: 46219 | E347: SHP-PD | F347: SHP - CLMIS | G347: ZC1001 | H347: Newark | I347: Faculty | J347: 0.08 | K347: mrl239@rutgers.edu | L347: Hourly Employees | N347: =PROPER(_xlfn.CONCAT(C347," ",B347)) -> Madison Lyons | O347: =IFERROR(UPPER(LEFT(K347,SEARCH("@",K347)-1)),"") -> MRL239
A348: 00180959 | B348: Situ Huang | C348: Man Ling | D348: 45429 | E348: SHP-PD | F348: SHP - CLMIS | G348: ZC1001 | H348: Newark | I348: Faculty | J348: 0.08 | K348: ms3251@rutgers.edu | L348: Hourly Employees | N348: =PROPER(_xlfn.CONCAT(C348," ",B348)) -> Man Ling Situ Huang | O348: =IFERROR(UPPER(LEFT(K348,SEARCH("@",K348)-1)),"") -> MS3251
A349: 00158675 | B349: Nuhu | C349: Mandeiya | D349: 44943 | E349: SR TRAINING & CONSULT SPEC | F349: SHP - Psychiatric Rehabilitati | G349: ZC0501 | H349: Busch | I349: Staff | J349: 1 | K349: msn74@rutgers.edu | L349: HPAE 5094 | N349: =PROPER(_xlfn.CONCAT(C349," ",B349)) -> Mandeiya Nuhu | O349: =IFERROR(UPPER(LEFT(K349,SEARCH("@",K349)-1)),"") -> MSN74
...
