BEGIN:VCALENDAR
VERSION:2.0
PRODID:-//Rutgers - School of Health Professions - ECPv6.14.0//NONSGML v1.0//EN
CALSCALE:GREGORIAN
METHOD:PUBLISH
X-ORIGINAL-URL:https://shp.rutgers.edu
X-WR-CALDESC:Events for Rutgers - School of Health Professions
REFRESH-INTERVAL;VALUE=DURATION:PT1H
X-Robots-Tag:noindex
X-PUBLISHED-TTL:PT1H
BEGIN:VTIMEZONE
TZID:America/New_York
BEGIN:DAYLIGHT
TZOFFSETFROM:-0500
TZOFFSETTO:-0400
TZNAME:EDT
DTSTART:20260308T070000
END:DAYLIGHT
BEGIN:STANDARD
TZOFFSETFROM:-0400
TZOFFSETTO:-0500
TZNAME:EST
DTSTART:20261101T060000
END:STANDARD
END:VTIMEZONE
BEGIN:VEVENT
DTSTART;VALUE=DATE:20260519
DTEND;VALUE=DATE:20260520
DTSTAMP:20260424T083025
CREATED:20260423T142727Z
LAST-MODIFIED:20260423T142727Z
UID:32295-1779148800-1779235199@shp.rutgers.edu
SUMMARY:Convocation 2026!
DESCRIPTION:
URL:https://shp.rutgers.edu/event/convocation-2026/
LOCATION:New Jersey Performing Arts Center (NJPAC)\, 1 Center Street\, Newark\, NJ\, 07102\, United States
CATEGORIES:Events,Student Success Events
END:VEVENT
END:VCALENDAR