BEGIN:VCALENDAR
VERSION:2.0
PRODID:-//Rutgers - School of Health Professions - ECPv6.14.0//NONSGML v1.0//EN
CALSCALE:GREGORIAN
METHOD:PUBLISH
X-WR-CALNAME:Rutgers - School of Health Professions
X-ORIGINAL-URL:https://shp.rutgers.edu
X-WR-CALDESC:Events for Rutgers - School of Health Professions
REFRESH-INTERVAL;VALUE=DURATION:PT1H
X-Robots-Tag:noindex
X-PUBLISHED-TTL:PT1H
BEGIN:VTIMEZONE
TZID:America/New_York
BEGIN:DAYLIGHT
TZOFFSETFROM:-0500
TZOFFSETTO:-0400
TZNAME:EDT
DTSTART:20260308T070000
END:DAYLIGHT
BEGIN:STANDARD
TZOFFSETFROM:-0400
TZOFFSETTO:-0500
TZNAME:EST
DTSTART:20261101T060000
END:STANDARD
END:VTIMEZONE
BEGIN:VEVENT
DTSTART;TZID=America/New_York:20260416T130000
DTEND;TZID=America/New_York:20260416T140000
DTSTAMP:20260423T061857
CREATED:20260326T172043Z
LAST-MODIFIED:20260326T172043Z
UID:31572-1776344400-1776348000@shp.rutgers.edu
SUMMARY:M.S. in Clinical Research Management Virtual Information Session
DESCRIPTION:
URL:https://shp.rutgers.edu/event/m-s-in-clinical-research-management-virtual-information-session-7/
LOCATION:Virtual via Zoom
CATEGORIES:Events,Open House
END:VEVENT
END:VCALENDAR