BEGIN:VCALENDAR
VERSION:2.0
PRODID:-//Rutgers - School of Health Professions - ECPv6.14.0//NONSGML v1.0//EN
CALSCALE:GREGORIAN
METHOD:PUBLISH
X-ORIGINAL-URL:https://shp.rutgers.edu
X-WR-CALDESC:Events for Rutgers - School of Health Professions
REFRESH-INTERVAL;VALUE=DURATION:PT1H
X-Robots-Tag:noindex
X-PUBLISHED-TTL:PT1H
BEGIN:VTIMEZONE
TZID:America/New_York
BEGIN:DAYLIGHT
TZOFFSETFROM:-0500
TZOFFSETTO:-0400
TZNAME:EDT
DTSTART:20260308T070000
END:DAYLIGHT
BEGIN:STANDARD
TZOFFSETFROM:-0400
TZOFFSETTO:-0500
TZNAME:EST
DTSTART:20261101T060000
END:STANDARD
END:VTIMEZONE
BEGIN:VEVENT
DTSTART;TZID=America/New_York:20260311T080000
DTEND;TZID=America/New_York:20260330T000000
DTSTAMP:20260422T123224
CREATED:20260311T195121Z
LAST-MODIFIED:20260325T135304Z
UID:30804-1773216000-1774828800@shp.rutgers.edu
SUMMARY:AIBM Foundation's 2026 Building Trust Essay Contest
DESCRIPTION:
URL:https://shp.rutgers.edu/event/aibm-foundation-essay-contest/
LOCATION:ONLINE
CATEGORIES:Student Success Events
END:VEVENT
BEGIN:VEVENT
DTSTART;TZID=America/New_York:20260324T130000
DTEND;TZID=America/New_York:20260324T140000
DTSTAMP:20260422T123224
CREATED:20260226T191609Z
LAST-MODIFIED:20260226T191609Z
UID:30145-1774357200-1774360800@shp.rutgers.edu
SUMMARY:M.S. in Clinical Laboratory Science Virtual Information Session
DESCRIPTION:
URL:https://shp.rutgers.edu/event/m-s-in-clinical-laboratory-science-virtual-information-session-6/
LOCATION:Virtual via Zoom
CATEGORIES:Events,Open House
END:VEVENT
BEGIN:VEVENT
DTSTART;TZID=America/New_York:20260324T140000
DTEND;TZID=America/New_York:20260324T150000
DTSTAMP:20260422T123224
CREATED:20251202T172237Z
LAST-MODIFIED:20260306T204825Z
UID:28322-1774360800-1774364400@shp.rutgers.edu
SUMMARY:Doctor of Health Informatics Virtual Info Session
DESCRIPTION:
URL:https://shp.rutgers.edu/event/m-s-and-doctorate-in-health-informatics-virtual-info-session-6/
LOCATION:Virtual via Zoom
CATEGORIES:Events,Open House
END:VEVENT
BEGIN:VEVENT
DTSTART;TZID=America/New_York:20260324T140000
DTEND;TZID=America/New_York:20260324T150000
DTSTAMP:20260422T123224
CREATED:20251202T173712Z
LAST-MODIFIED:20260306T204723Z
UID:28327-1774360800-1774364400@shp.rutgers.edu
SUMMARY:M.S. in Health Informatics Virtual Info Session
DESCRIPTION:
URL:https://shp.rutgers.edu/event/m-s-in-health-informatics-virtual-info-session/
LOCATION:Virtual via Zoom
CATEGORIES:Events,Open House
END:VEVENT
END:VCALENDAR