BEGIN:VCALENDAR
VERSION:2.0
PRODID:-//Rutgers - School of Health Professions - ECPv6.14.0//NONSGML v1.0//EN
CALSCALE:GREGORIAN
METHOD:PUBLISH
X-WR-CALNAME:Rutgers - School of Health Professions
X-ORIGINAL-URL:https://shp.rutgers.edu
X-WR-CALDESC:Events for Rutgers - School of Health Professions
REFRESH-INTERVAL;VALUE=DURATION:PT1H
X-Robots-Tag:noindex
X-PUBLISHED-TTL:PT1H
BEGIN:VTIMEZONE
TZID:America/New_York
BEGIN:DAYLIGHT
TZOFFSETFROM:-0500
TZOFFSETTO:-0400
TZNAME:EDT
DTSTART:20260308T070000
END:DAYLIGHT
BEGIN:STANDARD
TZOFFSETFROM:-0400
TZOFFSETTO:-0500
TZNAME:EST
DTSTART:20261101T060000
END:STANDARD
END:VTIMEZONE
BEGIN:VEVENT
DTSTART;TZID=America/New_York:20260107T140000
DTEND;TZID=America/New_York:20260107T150000
DTSTAMP:20260425T120557
CREATED:20251016T161351Z
LAST-MODIFIED:20251016T161351Z
UID:27809-1767794400-1767798000@shp.rutgers.edu
SUMMARY:Doctor of Clinical Nutrition Virtual Information Session
DESCRIPTION:M.S. in Clinical Nutrition (for aspiring Dietitians) and Dietetic Internship/Master’s of Public Health\nVirtual Open Houses M.S. in Clinical Nutrition (for aspiring Dietitians) and Dietetic Internship/Master’s of Public Health Virtual Open Houses
URL:https://shp.rutgers.edu/event/doctor-of-clinical-nutrition-virtual-information-session-8/
LOCATION:Virtual via Zoom
CATEGORIES:Events,Open House
END:VEVENT
BEGIN:VEVENT
DTSTART;TZID=America/New_York:20260107T140000
DTEND;TZID=America/New_York:20260107T150000
DTSTAMP:20260425T120557
CREATED:20251104T190945Z
LAST-MODIFIED:20251104T190945Z
UID:27990-1767794400-1767798000@shp.rutgers.edu
SUMMARY:M.S. in Clinical Nutrition (for Aspiring Dietitians) Virtual Information Session
DESCRIPTION:M.S. in Clinical Nutrition (for aspiring Dietitians) and Dietetic Internship/Master’s of Public Health\nVirtual Open Houses M.S. in Clinical Nutrition (for aspiring Dietitians) and Dietetic Internship/Master’s of Public Health Virtual Open Houses
URL:https://shp.rutgers.edu/event/m-s-in-clinical-nutrition-for-aspiring-dietitians-virtual-information-session-4/
LOCATION:Virtual via Zoom
CATEGORIES:Events,Open House
END:VEVENT
END:VCALENDAR