BEGIN:VCALENDAR
VERSION:2.0
PRODID:-//Rutgers - School of Health Professions - ECPv6.14.0//NONSGML v1.0//EN
CALSCALE:GREGORIAN
METHOD:PUBLISH
X-ORIGINAL-URL:https://shp.rutgers.edu
X-WR-CALDESC:Events for Rutgers - School of Health Professions
REFRESH-INTERVAL;VALUE=DURATION:PT1H
X-Robots-Tag:noindex
X-PUBLISHED-TTL:PT1H
BEGIN:VTIMEZONE
TZID:America/New_York
BEGIN:DAYLIGHT
TZOFFSETFROM:-0500
TZOFFSETTO:-0400
TZNAME:EDT
DTSTART:20250309T070000
END:DAYLIGHT
BEGIN:STANDARD
TZOFFSETFROM:-0400
TZOFFSETTO:-0500
TZNAME:EST
DTSTART:20251102T060000
END:STANDARD
END:VTIMEZONE
BEGIN:VEVENT
DTSTART;TZID=America/New_York:20250520T100000
DTEND;TZID=America/New_York:20250520T123000
DTSTAMP:20260422T111734
CREATED:20250411T142817Z
LAST-MODIFIED:20250411T142817Z
UID:24584-1747735200-1747744200@shp.rutgers.edu
SUMMARY:SHP Convocation 2025
DESCRIPTION:
URL:https://shp.rutgers.edu/event/shp-convocation-2025/
LOCATION:New Jersey Performing Arts Center (NJPAC)\, 1 Center Street\, Newark\, NJ\, 07102\, United States
CATEGORIES:Events
END:VEVENT
END:VCALENDAR