BEGIN:VCALENDAR
VERSION:2.0
PRODID:-//Rutgers - School of Health Professions - ECPv6.14.0//NONSGML v1.0//EN
CALSCALE:GREGORIAN
METHOD:PUBLISH
X-ORIGINAL-URL:https://shp.rutgers.edu
X-WR-CALDESC:Events for Rutgers - School of Health Professions
REFRESH-INTERVAL;VALUE=DURATION:PT1H
X-Robots-Tag:noindex
X-PUBLISHED-TTL:PT1H
BEGIN:VTIMEZONE
TZID:America/New_York
BEGIN:DAYLIGHT
TZOFFSETFROM:-0500
TZOFFSETTO:-0400
TZNAME:EDT
DTSTART:20240310T070000
END:DAYLIGHT
BEGIN:STANDARD
TZOFFSETFROM:-0400
TZOFFSETTO:-0500
TZNAME:EST
DTSTART:20241103T060000
END:STANDARD
END:VTIMEZONE
BEGIN:VEVENT
DTSTART;TZID=America/New_York:20241113T123000
DTEND;TZID=America/New_York:20241113T133000
DTSTAMP:20260424T190603
CREATED:20240916T213928Z
LAST-MODIFIED:20240916T213928Z
UID:20638-1731501000-1731504600@shp.rutgers.edu
SUMMARY:B.S. in Medical Laboratory Science
DESCRIPTION:
URL:https://shp.rutgers.edu/event/b-s-in-medical-laboratory-science-2/
LOCATION:Virtual via Zoom
CATEGORIES:Events,Open House
END:VEVENT
BEGIN:VEVENT
DTSTART;TZID=America/New_York:20241113T180000
DTEND;TZID=America/New_York:20241113T190000
DTSTAMP:20260424T190603
CREATED:20240802T143904Z
LAST-MODIFIED:20240802T143904Z
UID:19904-1731520800-1731524400@shp.rutgers.edu
SUMMARY:M.S. in Radiologist Assistant Virtual Information Session
DESCRIPTION:
URL:https://shp.rutgers.edu/event/m-s-in-radiologist-assistant-virtual-information-session-7/
LOCATION:Virtual
CATEGORIES:Events,Open House
END:VEVENT
BEGIN:VEVENT
DTSTART;TZID=America/New_York:20241113T183000
DTEND;TZID=America/New_York:20241113T193000
DTSTAMP:20260424T190603
CREATED:20240904T171132Z
LAST-MODIFIED:20241001T140424Z
UID:20467-1731522600-1731526200@shp.rutgers.edu
SUMMARY:B.S. in Health Information Management Virtual Information Session
DESCRIPTION:B.S. in Health Information Management
URL:https://shp.rutgers.edu/event/b-s-in-health-information-management-5/
LOCATION:Virtual via Zoom
CATEGORIES:Events,Open House
END:VEVENT
END:VCALENDAR