BEGIN:VCALENDAR
VERSION:2.0
PRODID:-//Rutgers - School of Health Professions - ECPv6.14.0//NONSGML v1.0//EN
CALSCALE:GREGORIAN
METHOD:PUBLISH
X-ORIGINAL-URL:https://shp.rutgers.edu
X-WR-CALDESC:Events for Rutgers - School of Health Professions
REFRESH-INTERVAL;VALUE=DURATION:PT1H
X-Robots-Tag:noindex
X-PUBLISHED-TTL:PT1H
BEGIN:VTIMEZONE
TZID:America/New_York
BEGIN:DAYLIGHT
TZOFFSETFROM:-0500
TZOFFSETTO:-0400
TZNAME:EDT
DTSTART:20240310T070000
END:DAYLIGHT
BEGIN:STANDARD
TZOFFSETFROM:-0400
TZOFFSETTO:-0500
TZNAME:EST
DTSTART:20241103T060000
END:STANDARD
END:VTIMEZONE
BEGIN:VEVENT
DTSTART;TZID=America/New_York:20241009T123000
DTEND;TZID=America/New_York:20241009T133000
DTSTAMP:20260424T191325
CREATED:20240904T171344Z
LAST-MODIFIED:20240904T171344Z
UID:20471-1728477000-1728480600@shp.rutgers.edu
SUMMARY:B.S. in Diagnostic Medical Sonography and B.S. in Cardiovascular Sonography
DESCRIPTION:
URL:https://shp.rutgers.edu/event/b-s-in-diagnostic-medical-sonography-and-b-s-in-cardiovascular-sonography/
LOCATION:Virtual via Zoom
CATEGORIES:Events,Open House
END:VEVENT
BEGIN:VEVENT
DTSTART;TZID=America/New_York:20241009T180000
DTEND;TZID=America/New_York:20241009T190000
DTSTAMP:20260424T191325
CREATED:20240808T150543Z
LAST-MODIFIED:20240808T150543Z
UID:19996-1728496800-1728500400@shp.rutgers.edu
SUMMARY:M.S. in Rehabilitation Counseling Virtual Open House
DESCRIPTION:
URL:https://shp.rutgers.edu/event/m-s-in-rehabilitation-counseling-virtual-open-house/
LOCATION:Virtual via Zoom
CATEGORIES:Events,Open House
END:VEVENT
END:VCALENDAR