BEGIN:VCALENDAR
VERSION:2.0
PRODID:-//Rutgers - School of Health Professions - ECPv6.14.0//NONSGML v1.0//EN
CALSCALE:GREGORIAN
METHOD:PUBLISH
X-WR-CALNAME:Rutgers - School of Health Professions
X-ORIGINAL-URL:https://shp.rutgers.edu
X-WR-CALDESC:Events for Rutgers - School of Health Professions
REFRESH-INTERVAL;VALUE=DURATION:PT1H
X-Robots-Tag:noindex
X-PUBLISHED-TTL:PT1H
BEGIN:VTIMEZONE
TZID:America/New_York
BEGIN:DAYLIGHT
TZOFFSETFROM:-0500
TZOFFSETTO:-0400
TZNAME:EDT
DTSTART:20190310T070000
END:DAYLIGHT
BEGIN:STANDARD
TZOFFSETFROM:-0400
TZOFFSETTO:-0500
TZNAME:EST
DTSTART:20191103T060000
END:STANDARD
END:VTIMEZONE
BEGIN:VEVENT
DTSTART;TZID=America/New_York:20190321T180000
DTEND;TZID=America/New_York:20190321T200000
DTSTAMP:20260425T083453
CREATED:20181128T162641Z
LAST-MODIFIED:20181128T162641Z
UID:7056-1553191200-1553198400@shp.rutgers.edu
SUMMARY:In-Person Open House (6:00 - 8:00 PM)
DESCRIPTION:In-Person Open House (6:00 – 8:00 PM)
URL:https://shp.rutgers.edu/event/in-person-open-house-600-800-pm/
LOCATION:NJ
CATEGORIES:Student Academic Calendar
ORGANIZER;CN="Enrollment Management":MAILTO:shrpadm@shp.rutgers.edu
END:VEVENT
END:VCALENDAR